Workbook

Sheet Cómo se usa
A1: Plantilla de control de stock · customsoftlab.com/plantilla-control-de-stock/
A3: 1. Artículos: una fila por producto, con su código, el stock mínimo y el coste unitario de compra.
A4: 2. Movimientos: cada entrada o salida en una fila. El código y el tipo se eligen de la lista.
A5: Empieza con una entrada por artículo con el motivo «Inventario inicial» (lo que hay hoy en el almacén).
A6: 3. Stock: se calcula solo. Entradas menos salidas, valor a coste y aviso «Reponer» si llega al mínimo.
A8: No escribas en las columnas de la hoja Stock: son fórmulas.
A9: Para Google Sheets: Archivo › Importar › Subir y elige «Insertar hojas nuevas» o «Reemplazar hoja de cálculo».
A10: Hecho en Excel con SUMIFS: funciona igual en Excel, LibreOffice y Google Sheets.

Sheet Artículos
A1: Código | B1: Artículo | C1: Proveedor | D1: Unidad | E1: Stock mínimo | F1: Coste unitario

Sheet Movimientos
A1: Fecha | B1: Código | C1: Tipo | D1: Cantidad | E1: Motivo | F1: Documento

Sheet Stock
A1: Código | B1: Artículo | C1: Entradas | D1: Salidas | E1: Stock actual | F1: Stock mínimo | G1: Valor a coste | H1: Aviso
A2: =IF('Artículos'!A2="","",'Artículos'!A2) | B2: =IF(A2="","",'Artículos'!B2) | C2: =IF(A2="","",SUMIFS(Movimientos!$D$2:$D$2001,Movimientos!$B$2:$B$2001,A2,Movimientos!$C$2:$C$2001,"Entrada")) | D2: =IF(A2="","",SUMIFS(Movimientos!$D$2:$D$2001,Movimientos!$B$2:$B$2001,A2,Movimientos!$C$2:$C$2001,"Salida")) | E2: =IF(A2="","",C2-D2) | F2: =IF(A2="","",'Artículos'!E2) | G2: =IF(A2="","",E2*'Artículos'!F2) | H2: =IF(A2="","",IF(E2<=F2,"Reponer","OK"))
A3: =IF('Artículos'!A3="","",'Artículos'!A3) | B3: =IF(A3="","",'Artículos'!B3) | C3: =IF(A3="","",SUMIFS(Movimientos!$D$2:$D$2001,Movimientos!$B$2:$B$2001,A3,Movimientos!$C$2:$C$2001,"Entrada")) | D3: =IF(A3="","",SUMIFS(Movimientos!$D$2:$D$2001,Movimientos!$B$2:$B$2001,A3,Movimientos!$C$2:$C$2001,"Salida")) | E3: =IF(A3="","",C3-D3) | F3: =IF(A3="","",'Artículos'!E3) | G3: =IF(A3="","",E3*'Artículos'!F3) | H3: =IF(A3="","",IF(E3<=F3,"Reponer","OK"))
A4: =IF('Artículos'!A4="","",'Artículos'!A4) | B4: =IF(A4="","",'Artículos'!B4) | C4: =IF(A4="","",SUMIFS(Movimientos!$D$2:$D$2001,Movimientos!$B$2:$B$2001,A4,Movimientos!$C$2:$C$2001,"Entrada")) | D4: =IF(A4="","",SUMIFS(Movimientos!$D$2:$D$2001,Movimientos!$B$2:$B$2001,A4,Movimientos!$C$2:$C$2001,"Salida")) | E4: =IF(A4="","",C4-D4) | F4: =IF(A4="","",'Artículos'!E4) | G4: =IF(A4="","",E4*'Artículos'!F4) | H4: =IF(A4="","",IF(E4<=F4,"Reponer","OK"))
A5: =IF('Artículos'!A5="","",'Artículos'!A5) | B5: =IF(A5="","",'Artículos'!B5) | C5: =IF(A5="","",SUMIFS(Movimientos!$D$2:$D$2001,Movimientos!$B$2:$B$2001,A5,Movimientos!$C$2:$C$2001,"Entrada")) | D5: =IF(A5="","",SUMIFS(Movimientos!$D$2:$D$2001,Movimientos!$B$2:$B$2001,A5,Movimientos!$C$2:$C$2001,"Salida")) | E5: =IF(A5="","",C5-D5) | F5: =IF(A5="","",'Artículos'!E5) | G5: =IF(A5="","",E5*'Artículos'!F5) | H5: =IF(A5="","",IF(E5<=F5,"Reponer","OK"))
A6: =IF('Artículos'!A6="","",'Artículos'!A6) | B6: =IF(A6="","",'Artículos'!B6) | C6: =IF(A6="","",SUMIFS(Movimientos!$D$2:$D$2001,Movimientos!$B$2:$B$2001,A6,Movimientos!$C$2:$C$2001,"Entrada")) | D6: =IF(A6="","",SUMIFS(Movimientos!$D$2:$D$2001,Movimientos!$B$2:$B$2001,A6,Movimientos!$C$2:$C$2001,"Salida")) | E6: =IF(A6="","",C6-D6) | F6: =IF(A6="","",'Artículos'!E6) | G6: =IF(A6="","",E6*'Artículos'!F6) | H6: =IF(A6="","",IF(E6<=F6,"Reponer","OK"))
A7: =IF('Artículos'!A7="","",'Artículos'!A7) | B7: =IF(A7="","",'Artículos'!B7) | C7: =IF(A7="","",SUMIFS(Movimientos!$D$2:$D$2001,Movimientos!$B$2:$B$2001,A7,Movimientos!$C$2:$C$2001,"Entrada")) | D7: =IF(A7="","",SUMIFS(Movimientos!$D$2:$D$2001,Movimientos!$B$2:$B$2001,A7,Movimientos!$C$2:$C$2001,"Salida")) | E7: =IF(A7="","",C7-D7) | F7: =IF(A7="","",'Artículos'!E7) | G7: =IF(A7="","",E7*'Artículos'!F7) | H7: =IF(A7="","",IF(E7<=F7,"Reponer","OK"))
A8: =IF('Artículos'!A8="","",'Artículos'!A8) | B8: =IF(A8="","",'Artículos'!B8) | C8: =IF(A8="","",SUMIFS(Movimientos!$D$2:$D$2001,Movimientos!$B$2:$B$2001,A8,Movimientos!$C$2:$C$2001,"Entrada")) | D8: =IF(A8="","",SUMIFS(Movimientos!$D$2:$D$2001,Movimientos!$B$2:$B$2001,A8,Movimientos!$C$2:$C$2001,"Salida")) | E8: =IF(A8="","",C8-D8) | F8: =IF(A8="","",'Artículos'!E8) | G8: =IF(A8="","",E8*'Artículos'!F8) | H8: =IF(A8="","",IF(E8<=F8,"Reponer","OK"))
A9: =IF('Artículos'!A9="","",'Artículos'!A9) | B9: =IF(A9="","",'Artículos'!B9) | C9: =IF(A9="","",SUMIFS(Movimientos!$D$2:$D$2001,Movimientos!$B$2:$B$2001,A9,Movimientos!$C$2:$C$2001,"Entrada")) | D9: =IF(A9="","",SUMIFS(Movimientos!$D$2:$D$2001,Movimientos!$B$2:$B$2001,A9,Movimientos!$C$2:$C$2001,"Salida")) | E9: =IF(A9="","",C9-D9) | F9: =IF(A9="","",'Artículos'!E9) | G9: =IF(A9="","",E9*'Artículos'!F9) | H9: =IF(A9="","",IF(E9<=F9,"Reponer","OK"))
A10: =IF('Artículos'!A10="","",'Artículos'!A10) | B10: =IF(A10="","",'Artículos'!B10) | C10: =IF(A10="","",SUMIFS(Movimientos!$D$2:$D$2001,Movimientos!$B$2:$B$2001,A10,Movimientos!$C$2:$C$2001,"Entrada")) | D10: =IF(A10="","",SUMIFS(Movimientos!$D$2:$D$2001,Movimientos!$B$2:$B$2001,A10,Movimientos!$C$2:$C$2001,"Salida")) | E10: =IF(A10="","",C10-D10) | F10: =IF(A10="","",'Artículos'!E10) | G10: =IF(A10="","",E10*'Artículos'!F10) | H10: =IF(A10="","",IF(E10<=F10,"Reponer","OK"))
A11: =IF('Artículos'!A11="","",'Artículos'!A11) | B11: =IF(A11="","",'Artículos'!B11) | C11: =IF(A11="","",SUMIFS(Movimientos!$D$2:$D$2001,Movimientos!$B$2:$B$2001,A11,Movimientos!$C$2:$C$2001,"Entrada")) | D11: =IF(A11="","",SUMIFS(Movimientos!$D$2:$D$2001,Movimientos!$B$2:$B$2001,A11,Movimientos!$C$2:$C$2001,"Salida")) | E11: =IF(A11="","",C11-D11) | F11: =IF(A11="","",'Artículos'!E11) | G11: =IF(A11="","",E11*'Artículos'!F11) | H11: =IF(A11="","",IF(E11<=F11,"Reponer","OK"))
A12: =IF('Artículos'!A12="","",'Artículos'!A12) | B12: =IF(A12="","",'Artículos'!B12) | C12: =IF(A12="","",SUMIFS(Movimientos!$D$2:$D$2001,Movimientos!$B$2:$B$2001,A12,Movimientos!$C$2:$C$2001,"Entrada")) | D12: =IF(A12="","",SUMIFS(Movimientos!$D$2:$D$2001,Movimientos!$B$2:$B$2001,A12,Movimientos!$C$2:$C$2001,"Salida")) | E12: =IF(A12="","",C12-D12) | F12: =IF(A12="","",'Artículos'!E12) | G12: =IF(A12="","",E12*'Artículos'!F12) | H12: =IF(A12="","",IF(E12<=F12,"Reponer","OK"))
A13: =IF('Artículos'!A13="","",'Artículos'!A13) | B13: =IF(A13="","",'Artículos'!B13) | C13: =IF(A13="","",SUMIFS(Movimientos!$D$2:$D$2001,Movimientos!$B$2:$B$2001,A13,Movimientos!$C$2:$C$2001,"Entrada")) | D13: =IF(A13="","",SUMIFS(Movimientos!$D$2:$D$2001,Movimientos!$B$2:$B$2001,A13,Movimientos!$C$2:$C$2001,"Salida")) | E13: =IF(A13="","",C13-D13) | F13: =IF(A13="","",'Artículos'!E13) | G13: =IF(A13="","",E13*'Artículos'!F13) | H13: =IF(A13="","",IF(E13<=F13,"Reponer","OK"))
... A301: =IF('Artículos'!A301="","",'Artículos'!A301) | B301: =IF(A301="","",'Artículos'!B301) | C301: =IF(A301="","",SUMIFS(Movimientos!$D$2:$D$2001,Movimientos!$B$2:$B$2001,A301,Movimientos!$C$2:$C$2001,"Entrada")) | D301: =IF(A301="","",SUMIFS(Movimientos!$D$2:$D$2001,Movimientos!$B$2:$B$2001,A301,Movimientos!$C$2:$C$2001,"Salida")) | E301: =IF(A301="","",C301-D301) | F301: =IF(A301="","",'Artículos'!E301) | G301: =IF(A301="","",E301*'Artículos'!F301) | H301: =IF(A301="","",IF(E301<=F301,"Reponer","OK"))
F303: Valor total | G303: =SUM(G2:G301)
A304: Fila amarilla: el stock ha quedado en negativo, falta apuntar una entrada o sobra una salida.
